BEGIN:VCALENDAR
VERSION:2.0
PRODID:-//eventon.com NONSGML v1.0//EN
CALSCALE:GREGORIAN
METHOD:PUBLISH
BEGIN:VEVENT
UID:69ecdff061c4b
DTSTAMP:20260425T153824Z
DTSTART:20250928
DTEND:20250929
LOCATION:National Exhibition Centre Pendigo Way\,  Marston Green
SUMMARY:PATS - Birmingham\,  UK - 2025
DESCRIPTION:The UK&#8217;s most experienced pet and aquatics trade show org
 anisers\,  with over 100 years of combined experience staging events. Since
  its formation in 2007 Impact Exhibitions &amp; Events Ltd has staged over 
 30&nbsp;trade shows.\nhttps://petfood-nation.com/events/pats-birmingham-uk-
 2025/
URL:https://petfood-nation.com/events/pats-birmingham-uk-2025/
END:VEVENT
END:VCALENDAR