BEGIN:VCALENDAR
VERSION:2.0
PRODID:-//eventon.com NONSGML v1.0//EN
CALSCALE:GREGORIAN
METHOD:PUBLISH
BEGIN:VEVENT
UID:69ed45bf2131a
DTSTAMP:20260425T225247Z
DTSTART:20250520
DTEND:20250521
LOCATION:RAI Amsterdam Convention Centre Europaplein 24\,  1078 GZ Amsterdam
SUMMARY:PLMA - Amsterdam\,  Netherlands - 2025
DESCRIPTION:For nearly 40 years\,  PLMA’s annual World of Private Label I
 nternational Trade Show has brought retailers together with manufacturers t
 o help them find new products\,  make new contacts\,  and discover new idea
 s that help their private label programmes succeed and grow. PLMA’s 2025 
 World of Private Label will be held[..]\nhttps://petfood-nation.com/events/
 plma-amsterdam-netherlands-2025/
URL:https://petfood-nation.com/events/plma-amsterdam-netherlands-2025/
END:VEVENT
END:VCALENDAR