BEGIN:VCALENDAR
VERSION:2.0
PRODID:-//eventon.com NONSGML v1.0//EN
CALSCALE:GREGORIAN
METHOD:PUBLISH
BEGIN:VEVENT
UID:69e755e328e94
DTSTAMP:20260421T104803Z
DTSTART:20250625
DTEND:20250626
LOCATION:Saigon Exhibition &amp; Convention Centre 799 Đ. Nguyễn Văn Linh\,  Tân Phú\,  Quận 7\,  Thành phố Hồ Chí Minh\,  Vietnam
SUMMARY:Petfair Vietnam - Ho Chi Minh City\,  Vietnam - 2025
DESCRIPTION:Petfair Vietnam 2025 exhibition with the most grandiose scale e
 ver\,  in a space of 5000m2 gathering more than 250 exhibitors from 20 coun
 tries and territories\,  is expected to welcome more than 10000 visitors. P
 etfair Vietnam 2025 with the goal:– The Power platform to Promote Your Pe
 t industry Business– A great[..]\nhttps://petfood-nation.com/events/petfa
 ir-vietnam-ho-chi-minh-city-vietnam-2025/
URL:https://petfood-nation.com/events/petfair-vietnam-ho-chi-minh-city-vietnam-2025/
END:VEVENT
END:VCALENDAR