BEGIN:VCALENDAR
VERSION:2.0
PRODID:-//eventon.com NONSGML v1.0//EN
CALSCALE:GREGORIAN
METHOD:PUBLISH
BEGIN:VEVENT
UID:69e7513b9aa61
DTSTAMP:20260421T102811Z
DTSTART:20240828
DTEND:20240829
LOCATION:Diamond Island Convention and Exhibition Center (DIECC) HW3R+PF6\,  Phnom Penh
SUMMARY:Petfair Cambodia - Phnom Penh\,  Cambodia - 2024
DESCRIPTION:Petfair Cambodia 2024 exhibition with the most grandiose scale 
 ever\,  in a space of 5000m2 gathering more than 250 exhibitors from 20 cou
 ntries and territories\,  is expected to welcome more than 5000 visitors. P
 etfair Cambodia 2024 with the goal:– The Power platform to Promote Your P
 et industry Business– A great[..]\nhttps://petfood-nation.com/events/petf
 air-cambodia-phnom-penh-cambodia-2024/
URL:https://petfood-nation.com/events/petfair-cambodia-phnom-penh-cambodia-2024/
END:VEVENT
END:VCALENDAR