BEGIN:VCALENDAR
VERSION:2.0
PRODID:-//eventon.com NONSGML v1.0//EN
CALSCALE:GREGORIAN
METHOD:PUBLISH
BEGIN:VEVENT
UID:69eb60bd4c5b4
DTSTAMP:20260424T122325Z
DTSTART:20241105
DTEND:20241106
LOCATION:Poly World Trade Expo Center (PWTC) No.1000 Xingang Dong Road\,  Haizhu District\, 
SUMMARY:Pet Sourcing Fair China - Guangzhou\,  China - 2024
DESCRIPTION:Pet Sourcing Fair China (PSC)\,  the innovatiove trade show and
  information platform\,  is initiated by leading companies in the Chinese
  pet industry\,  professional media\,  and the China Pet Industry Associa
 tion for the global pet industry. For the first time\,  a pet fair is offe
 ring a complete overview of the supply chain\,  from raw materials\,  the 
 latest[..]\nhttps://petfood-nation.com/events/pet-sourcing-fair-china-guang
 zhou-china-2024/
URL:https://petfood-nation.com/events/pet-sourcing-fair-china-guangzhou-china-2024/
END:VEVENT
END:VCALENDAR